BEGIN:VCALENDAR
VERSION:2.0
PRODID:-//Eventin//Event Calendar//EN
CALSCALE:GREGORIAN
METHOD:PUBLISH
BEGIN:VEVENT
UID:348e8dd5c5efedd6fa73356d4e90763c@rockwallgop.org
SUMMARY:May Rockwall GOP CEC Monthly Meeting
DESCRIPTION:
LOCATION:Rockwall GOP Headquarters
DTSTAMP:20260420T140151Z
DTSTART:20260514T233000Z
DTEND:20260515T013000Z
END:VEVENT
END:VCALENDAR
