BEGIN:VCALENDAR
VERSION:2.0
PRODID:-//Eventin//Event Calendar//EN
CALSCALE:GREGORIAN
METHOD:PUBLISH
BEGIN:VEVENT
UID:77dd46452a86ef370d448c0dd805102e@rockwallgop.org
SUMMARY:EARLY VOTING - MUNICIPAL & SCHOOL BOARD ELECTION
DESCRIPTION:EARLY VOTING TIMES AND LOCATIONS
LOCATION:N/A
DTSTAMP:20260420T135753Z
DTSTART:20260420T120000Z
DTEND:20260429T000000Z
END:VEVENT
END:VCALENDAR
