BEGIN:VCALENDAR
VERSION:2.0
PRODID:-//Eventin//Event Calendar//EN
CALSCALE:GREGORIAN
METHOD:PUBLISH
BEGIN:VEVENT
UID:1ca3ef25f464cc816dd48d0656e78b88@rockwallgop.org
SUMMARY:EARLY VOTING - PRIMARY RUN-OFF ELECTION
DESCRIPTION:
LOCATION:N/A
DTSTAMP:20260420T135949Z
DTSTART:20260518T120000Z
DTEND:20260523T000000Z
END:VEVENT
END:VCALENDAR
