BEGIN:VCALENDAR
VERSION:2.0
PRODID:-//Eventin//Event Calendar//EN
CALSCALE:GREGORIAN
METHOD:PUBLISH
BEGIN:VEVENT
UID:1452b2bb20b43b656cbaa299d9fa28a6@rockwallgop.org
SUMMARY:ELECTION DAY - MUNICIPAL AND SCHOOL BOARD
DESCRIPTION:ELECTION DAY LOCATION AND TIMES
LOCATION:N/A
DTSTAMP:20260420T140128Z
DTSTART:20260502T120000Z
DTEND:20260503T000000Z
END:VEVENT
END:VCALENDAR
