BEGIN:VCALENDAR
VERSION:2.0
PRODID:-//Eventin//Event Calendar//EN
CALSCALE:GREGORIAN
METHOD:PUBLISH
BEGIN:VEVENT
UID:4323c513117af808cb98410dce1e4371@rockwallgop.org
SUMMARY:MAY MONTHLY MEETING
DESCRIPTION:
LOCATION:The Center 108 E Washington St\, Rockwall\, TX 75087-3715\, United
  States
DTSTAMP:20260420T135457Z
DTSTART:20260509T130000Z
DTEND:20260509T140000Z
END:VEVENT
END:VCALENDAR
