BEGIN:VCALENDAR
VERSION:2.0
PRODID:-//Eventin//Event Calendar//EN
CALSCALE:GREGORIAN
METHOD:PUBLISH
BEGIN:VEVENT
UID:0c64b7ba270fe1d25327311d5074c8af@rockwallgop.org
SUMMARY:Texas GOP State Convention
DESCRIPTION:TEXAS GOP State Convention Details
LOCATION:Houston\, TX
DTSTAMP:20260420T160204Z
DTSTART:20260611T050000Z
DTEND:20260613T050000Z
END:VEVENT
END:VCALENDAR
